BEGIN:VCALENDAR
VERSION:2.0
PRODID:-//wp-events-plugin.com//7.2.3.1//EN
TZID:America/New_York
X-WR-TIMEZONE:America/New_York
BEGIN:VEVENT
UID:3847@recoverynh.org
DTSTART;TZID=America/New_York:20260404T190000
DTEND;TZID=America/New_York:20270327T200000
DTSTAMP:20260327T142218Z
URL:https://recoverynh.org/events/a-weekly-recovery-meeting-offering-suppo
 rt-connection-and-shared-experience-in-a-welcoming-space/
SUMMARY:Harmonious Action Group
DESCRIPTION:A weekly recovery meeting offering support\, connection\, and s
 hared experience in a welcoming space.
ATTACH;FMTTYPE=image/jpeg:https://recoverynh.org/wp-content/uploads/2026/0
 3/Harmonious-action-group-web.png
CATEGORIES:DAA Meeting,Meetings
LOCATION:https://maps.app.goo.gl/CGvXJ8uJS3XCUqWj6
END:VEVENT
BEGIN:VTIMEZONE
TZID:America/New_York
X-LIC-LOCATION:America/New_York
BEGIN:DAYLIGHT
DTSTART:20260308T030000
TZOFFSETFROM:-0500
TZOFFSETTO:-0400
TZNAME:EDT
END:DAYLIGHT
BEGIN:STANDARD
DTSTART:20261101T010000
TZOFFSETFROM:-0400
TZOFFSETTO:-0500
TZNAME:EST
END:STANDARD
BEGIN:DAYLIGHT
DTSTART:20270314T030000
TZOFFSETFROM:-0500
TZOFFSETTO:-0400
TZNAME:EDT
END:DAYLIGHT
END:VTIMEZONE
END:VCALENDAR