BEGIN:VCALENDAR
VERSION:2.0
PRODID:-//wp-events-plugin.com//7.2.3.1//EN
TZID:America/New_York
X-WR-TIMEZONE:America/New_York
BEGIN:VEVENT
UID:381@recoverynh.org
DTSTART;TZID=America/New_York:20250902T193000
DTEND;TZID=America/New_York:20261229T203000
DTSTAMP:20251230T214727Z
URL:https://recoverynh.org/events/as-bill-paints-it-art-aa-meeting/
SUMMARY:"As Bill Paints It" (Art & AA Meeting)
DESCRIPTION:Join us for As Bill Paints It\, a creative recovery meeting tha
 t combines art and Alcoholics Anonymous fellowship. This weekly gathering 
 offers time for artistic expression alongside the principles of AA\, provi
 ding a unique space to reflect\, share\, and connect through creativity an
 d community. Open to all in recovery\, As Bill Paints It encourages partic
 ipants to explore healing and growth through both conversation and art.
ATTACH;FMTTYPE=image/jpeg:https://recoverynh.org/wp-content/uploads/2025/0
 8/17.png
CATEGORIES:Meetings
LOCATION:https://maps.app.goo.gl/8TeTckYjGjVpyR8k6
END:VEVENT
BEGIN:VTIMEZONE
TZID:America/New_York
X-LIC-LOCATION:America/New_York
BEGIN:DAYLIGHT
DTSTART:20250309T030000
TZOFFSETFROM:-0500
TZOFFSETTO:-0400
TZNAME:EDT
END:DAYLIGHT
BEGIN:STANDARD
DTSTART:20251102T010000
TZOFFSETFROM:-0400
TZOFFSETTO:-0500
TZNAME:EST
END:STANDARD
BEGIN:DAYLIGHT
DTSTART:20260308T030000
TZOFFSETFROM:-0500
TZOFFSETTO:-0400
TZNAME:EDT
END:DAYLIGHT
BEGIN:STANDARD
DTSTART:20261101T010000
TZOFFSETFROM:-0400
TZOFFSETTO:-0500
TZNAME:EST
END:STANDARD
END:VTIMEZONE
END:VCALENDAR