BEGIN:VCALENDAR
VERSION:2.0
PRODID:-//wp-events-plugin.com//7.2.3.1//EN
TZID:America/New_York
X-WR-TIMEZONE:America/New_York
BEGIN:VEVENT
UID:4014@recoverynh.org
DTSTART;TZID=America/New_York:20260421T160000
DTEND;TZID=America/New_York:20270420T170000
DTSTAMP:20260415T173207Z
URL:https://recoverynh.org/events/before-the-dive-emotional-skills-group/
SUMMARY:Before the Dive: Emotional Skills Prep Group (Members Only)
DESCRIPTION:Build emotional strength and stability in this 5-week group foc
 used on grounding\, awareness\, and self-compassion.
ATTACH;FMTTYPE=image/jpeg:https://recoverynh.org/wp-content/uploads/2026/0
 4/WEBSITE-FLYERS-2.png
CATEGORIES:Mental Health,Wellness
LOCATION:https://maps.app.goo.gl/CGvXJ8uJS3XCUqWj6%20%20
END:VEVENT
BEGIN:VTIMEZONE
TZID:America/New_York
X-LIC-LOCATION:America/New_York
BEGIN:DAYLIGHT
DTSTART:20260308T030000
TZOFFSETFROM:-0500
TZOFFSETTO:-0400
TZNAME:EDT
END:DAYLIGHT
BEGIN:STANDARD
DTSTART:20261101T010000
TZOFFSETFROM:-0400
TZOFFSETTO:-0500
TZNAME:EST
END:STANDARD
BEGIN:DAYLIGHT
DTSTART:20270314T030000
TZOFFSETFROM:-0500
TZOFFSETTO:-0400
TZNAME:EDT
END:DAYLIGHT
END:VTIMEZONE
END:VCALENDAR