BEGIN:VCALENDAR
VERSION:2.0
PRODID:-//wp-events-plugin.com//7.2.3.1//EN
TZID:America/New_York
X-WR-TIMEZONE:America/New_York
BEGIN:VEVENT
UID:362@recoverynh.org
DTSTART;TZID=America/New_York:20250902T180000
DTEND;TZID=America/New_York:20261229T190000
DTSTAMP:20260116T185915Z
URL:https://recoverynh.org/events/cma-shatterproof/
SUMMARY:Crystal Meth Anonymous "Shatterproof"
DESCRIPTION:A weekly CMA meeting focused on fellowship\, support\, and buil
 ding strength in recovery together.
ATTACH;FMTTYPE=image/jpeg:https://recoverynh.org/wp-content/uploads/2025/0
 8/CMA-Shatterproof.png
CATEGORIES:CMA,Meetings
LOCATION:https://maps.app.goo.gl/8TeTckYjGjVpyR8k6
END:VEVENT
BEGIN:VTIMEZONE
TZID:America/New_York
X-LIC-LOCATION:America/New_York
BEGIN:DAYLIGHT
DTSTART:20250309T030000
TZOFFSETFROM:-0500
TZOFFSETTO:-0400
TZNAME:EDT
END:DAYLIGHT
BEGIN:STANDARD
DTSTART:20251102T010000
TZOFFSETFROM:-0400
TZOFFSETTO:-0500
TZNAME:EST
END:STANDARD
BEGIN:DAYLIGHT
DTSTART:20260308T030000
TZOFFSETFROM:-0500
TZOFFSETTO:-0400
TZNAME:EDT
END:DAYLIGHT
BEGIN:STANDARD
DTSTART:20261101T010000
TZOFFSETFROM:-0400
TZOFFSETTO:-0500
TZNAME:EST
END:STANDARD
END:VTIMEZONE
END:VCALENDAR