BEGIN:VCALENDAR
VERSION:2.0
PRODID:-//wp-events-plugin.com//7.2.3.1//EN
TZID:America/New_York
X-WR-TIMEZONE:America/New_York
BEGIN:VEVENT
UID:242@recoverynh.org
DTSTART;TZID=America/New_York:20251206T160000
DTEND;TZID=America/New_York:20261226T180000
DTSTAMP:20251230T214403Z
URL:https://recoverynh.org/events/ear-acupuncture-3/
SUMMARY:Ear Acupuncture
DESCRIPTION:Ear acupuncture is a gentle practice that supports recovery by 
 easing anxiety\, reducing stress\, boosting focus\, and calming the nervou
 s system. At Hope for NH Recovery\, this holistic service helps bring bala
 nce to both body and mind\, offering a simple yet powerful tool for healin
 g and wellness.
ATTACH;FMTTYPE=image/jpeg:https://recoverynh.org/wp-content/uploads/2025/0
 8/Website-Flyers-4.png
CATEGORIES:Ear Acupuncture,Wellness
LOCATION:https://maps.app.goo.gl/CGvXJ8uJS3XCUqWj6
END:VEVENT
BEGIN:VTIMEZONE
TZID:America/New_York
X-LIC-LOCATION:America/New_York
BEGIN:STANDARD
DTSTART:20251102T010000
TZOFFSETFROM:-0400
TZOFFSETTO:-0500
TZNAME:EST
END:STANDARD
BEGIN:DAYLIGHT
DTSTART:20260308T030000
TZOFFSETFROM:-0500
TZOFFSETTO:-0400
TZNAME:EDT
END:DAYLIGHT
BEGIN:STANDARD
DTSTART:20261101T010000
TZOFFSETFROM:-0400
TZOFFSETTO:-0500
TZNAME:EST
END:STANDARD
END:VTIMEZONE
END:VCALENDAR