BEGIN:VCALENDAR
VERSION:2.0
PRODID:-//wp-events-plugin.com//7.2.3.1//EN
TZID:America/New_York
X-WR-TIMEZONE:America/New_York
BEGIN:VEVENT
UID:675@recoverynh.org
DTSTART;TZID=America/New_York:20250903T170000
DTEND;TZID=America/New_York:20261230T180000
DTSTAMP:20251230T214814Z
URL:https://recoverynh.org/events/healing-with-crystals-members-only-2/
SUMMARY:Healing with Crystals (Members Only)
DESCRIPTION:Join us for Healing with Crystals\, a wellness session explorin
 g the restorative energy of crystals and their role in supporting balance\
 , clarity\, and inner peace. Guided by gentle practices and education\, th
 is group offers a calming space to learn how crystals can be used for grou
 nding\, stress relief\, and emotional healing. Open to all\, Healing with 
 Crystals provides an opportunity to connect\, recharge\, and explore holis
 tic tools for well-being.
ATTACH;FMTTYPE=image/jpeg:https://recoverynh.org/wp-content/uploads/2025/0
 8/crystals.png
CATEGORIES:Wellness
LOCATION:https://maps.app.goo.gl/2T1UtKa3wDG7SeFu7
END:VEVENT
BEGIN:VTIMEZONE
TZID:America/New_York
X-LIC-LOCATION:America/New_York
BEGIN:DAYLIGHT
DTSTART:20250309T030000
TZOFFSETFROM:-0500
TZOFFSETTO:-0400
TZNAME:EDT
END:DAYLIGHT
BEGIN:STANDARD
DTSTART:20251102T010000
TZOFFSETFROM:-0400
TZOFFSETTO:-0500
TZNAME:EST
END:STANDARD
BEGIN:DAYLIGHT
DTSTART:20260308T030000
TZOFFSETFROM:-0500
TZOFFSETTO:-0400
TZNAME:EDT
END:DAYLIGHT
BEGIN:STANDARD
DTSTART:20261101T010000
TZOFFSETFROM:-0400
TZOFFSETTO:-0500
TZNAME:EST
END:STANDARD
END:VTIMEZONE
END:VCALENDAR