BEGIN:VCALENDAR
VERSION:2.0
PRODID:-//wp-events-plugin.com//7.2.3.1//EN
TZID:America/New_York
X-WR-TIMEZONE:America/New_York
BEGIN:VEVENT
UID:752@recoverynh.org
DTSTART;TZID=America/New_York:20250902T193000
DTEND;TZID=America/New_York:20261229T203000
DTSTAMP:20251230T214505Z
URL:https://recoverynh.org/events/heroin-anonymous-2/
SUMMARY:Heroin Anonymous
DESCRIPTION:Join us for Heroin Anonymous (HA)\, a weekly fellowship based o
 n the 12 Steps and dedicated to helping individuals find freedom from hero
 in addiction. This peer-led meeting provides a safe and welcoming space to
  share experiences\, build connections\, and find strength in community. O
 pen to anyone with a desire to stop using heroin\, HA offers hope\, encour
 agement\, and support on the path to lasting recovery.
ATTACH;FMTTYPE=image/jpeg:https://recoverynh.org/wp-content/uploads/2025/0
 8/heroin.png
CATEGORIES:HA Meeting,Meetings
LOCATION:https://maps.app.goo.gl/2T1UtKa3wDG7SeFu7
END:VEVENT
BEGIN:VTIMEZONE
TZID:America/New_York
X-LIC-LOCATION:America/New_York
BEGIN:DAYLIGHT
DTSTART:20250309T030000
TZOFFSETFROM:-0500
TZOFFSETTO:-0400
TZNAME:EDT
END:DAYLIGHT
BEGIN:STANDARD
DTSTART:20251102T010000
TZOFFSETFROM:-0400
TZOFFSETTO:-0500
TZNAME:EST
END:STANDARD
BEGIN:DAYLIGHT
DTSTART:20260308T030000
TZOFFSETFROM:-0500
TZOFFSETTO:-0400
TZNAME:EDT
END:DAYLIGHT
BEGIN:STANDARD
DTSTART:20261101T010000
TZOFFSETFROM:-0400
TZOFFSETTO:-0500
TZNAME:EST
END:STANDARD
END:VTIMEZONE
END:VCALENDAR