BEGIN:VCALENDAR
VERSION:2.0
PRODID:-//wp-events-plugin.com//7.2.3.1//EN
TZID:America/New_York
X-WR-TIMEZONE:America/New_York
BEGIN:VEVENT
UID:509@recoverynh.org
DTSTART;TZID=America/New_York:20250829T190000
DTEND;TZID=America/New_York:20261225T200000
DTSTAMP:20251223T204618Z
URL:https://recoverynh.org/events/heroin-anonymous-friday-night-get-it-rig
 ht/
SUMMARY:Heroin Anonymous "Friday Night\, Get It Right"
DESCRIPTION:Join us for Heroin Anonymous: Friday Night\, Get It Right\, a w
 eekly HA meeting offering fellowship\, hope\, and support for those seekin
 g freedom from heroin addiction. Through the principles of Heroin Anonymou
 s and shared experience\, this group provides encouragement\, accountabili
 ty\, and connection in a safe\, recovery-focused environment. Open to anyo
 ne with a desire to stop using heroin\, Friday Night\, Get It Right is a p
 lace to build strength and community together.
ATTACH;FMTTYPE=image/jpeg:https://recoverynh.org/wp-content/uploads/2025/0
 8/26.png
CATEGORIES:HA Meeting,Meetings
LOCATION:https://maps.app.goo.gl/8TeTckYjGjVpyR8k6
END:VEVENT
BEGIN:VTIMEZONE
TZID:America/New_York
X-LIC-LOCATION:America/New_York
BEGIN:DAYLIGHT
DTSTART:20250309T030000
TZOFFSETFROM:-0500
TZOFFSETTO:-0400
TZNAME:EDT
END:DAYLIGHT
BEGIN:STANDARD
DTSTART:20251102T010000
TZOFFSETFROM:-0400
TZOFFSETTO:-0500
TZNAME:EST
END:STANDARD
BEGIN:DAYLIGHT
DTSTART:20260308T030000
TZOFFSETFROM:-0500
TZOFFSETTO:-0400
TZNAME:EDT
END:DAYLIGHT
BEGIN:STANDARD
DTSTART:20261101T010000
TZOFFSETFROM:-0400
TZOFFSETTO:-0500
TZNAME:EST
END:STANDARD
END:VTIMEZONE
END:VCALENDAR