BEGIN:VCALENDAR
VERSION:2.0
PRODID:-//wp-events-plugin.com//7.2.3.1//EN
TZID:America/New_York
X-WR-TIMEZONE:America/New_York
BEGIN:VEVENT
UID:920@recoverynh.org
DTSTART;TZID=America/New_York:20251023T191500
DTEND;TZID=America/New_York:20261231T201500
DTSTAMP:20251230T215029Z
URL:https://recoverynh.org/events/hope-for-cocaine-anonymous/
SUMMARY:Hope for Cocaine Anonymous
DESCRIPTION:Hope for Cocaine Anonymous meets Wednesdays 1:30–2:45 PM in M
 anchester\, NH. A peer-led fellowship offering support\, connection\, and 
 recovery resources.
ATTACH;FMTTYPE=image/jpeg:https://recoverynh.org/wp-content/uploads/2025/0
 9/Hope-for-Cocaine-Anonymous.png
CATEGORIES:CA Meetings,Meetings
LOCATION:https://maps.app.goo.gl/CGvXJ8uJS3XCUqWj6
END:VEVENT
BEGIN:VTIMEZONE
TZID:America/New_York
X-LIC-LOCATION:America/New_York
BEGIN:DAYLIGHT
DTSTART:20250309T030000
TZOFFSETFROM:-0500
TZOFFSETTO:-0400
TZNAME:EDT
END:DAYLIGHT
BEGIN:STANDARD
DTSTART:20251102T010000
TZOFFSETFROM:-0400
TZOFFSETTO:-0500
TZNAME:EST
END:STANDARD
BEGIN:DAYLIGHT
DTSTART:20260308T030000
TZOFFSETFROM:-0500
TZOFFSETTO:-0400
TZNAME:EDT
END:DAYLIGHT
BEGIN:STANDARD
DTSTART:20261101T010000
TZOFFSETFROM:-0400
TZOFFSETTO:-0500
TZNAME:EST
END:STANDARD
END:VTIMEZONE
END:VCALENDAR