BEGIN:VCALENDAR
VERSION:2.0
PRODID:-//wp-events-plugin.com//7.2.3.1//EN
TZID:America/New_York
X-WR-TIMEZONE:America/New_York
BEGIN:VEVENT
UID:153@recoverynh.org
DTSTART;TZID=America/New_York:20250923T180000
DTEND;TZID=America/New_York:20261229T190000
DTSTAMP:20251223T202712Z
URL:https://recoverynh.org/events/movement-breathwork/
SUMMARY:Movement & Breathwork
DESCRIPTION:Join us for Movement & Breathwork\, a weekly wellness session c
 ombining gentle movement and guided breathwork to help reduce stress\, res
 tore balance\, and promote inner calm. Held every Tuesday from 6–7 PM at
  our Wellness Clinic in Manchester\, NH\, this class is open to all experi
 ence levels and designed to leave you feeling grounded\, peaceful\, and re
 -energized. Come as you are and reconnect with your breath\, your body\, a
 nd your sense of peace.
ATTACH;FMTTYPE=image/jpeg:https://recoverynh.org/wp-content/uploads/2025/0
 8/Movement-Breathwork.png
CATEGORIES:Wellness
LOCATION:https://maps.app.goo.gl/eY6me5bY9iVX1T6S8
END:VEVENT
BEGIN:VTIMEZONE
TZID:America/New_York
X-LIC-LOCATION:America/New_York
BEGIN:DAYLIGHT
DTSTART:20250309T030000
TZOFFSETFROM:-0500
TZOFFSETTO:-0400
TZNAME:EDT
END:DAYLIGHT
BEGIN:STANDARD
DTSTART:20251102T010000
TZOFFSETFROM:-0400
TZOFFSETTO:-0500
TZNAME:EST
END:STANDARD
BEGIN:DAYLIGHT
DTSTART:20260308T030000
TZOFFSETFROM:-0500
TZOFFSETTO:-0400
TZNAME:EDT
END:DAYLIGHT
BEGIN:STANDARD
DTSTART:20261101T010000
TZOFFSETFROM:-0400
TZOFFSETTO:-0500
TZNAME:EST
END:STANDARD
END:VTIMEZONE
END:VCALENDAR