BEGIN:VCALENDAR
VERSION:2.0
PRODID:-//wp-events-plugin.com//7.2.3.1//EN
TZID:America/New_York
X-WR-TIMEZONE:America/New_York
BEGIN:VEVENT
UID:1@recoverynh.org
DTSTART;TZID=America/New_York:20250825T120000
DTEND;TZID=America/New_York:20261231T130000
DTSTAMP:20251223T204126Z
URL:https://recoverynh.org/events/na-serenity-for-lunch/
SUMMARY:Narcotics Anonymous Serenity for Lunch
DESCRIPTION:Join us for “NA Serenity for Lunch\,” a welcoming Narcotics
  Anonymous (NA) meeting held midday for those seeking support\, connection
 \, and a moment of peace during the day. Whether you’re new to recovery 
 or continuing your journey\, this open-format NA meeting offers a safe\, j
 udgment-free space to share and grow. Take a break\, find your footing\, a
 nd refocus—one day at a time.\n
ATTACH;FMTTYPE=image/jpeg:https://recoverynh.org/wp-content/uploads/2025/0
 8/35.png
CATEGORIES:Meetings,NA Meetings
LOCATION:https://maps.app.goo.gl/CGvXJ8uJS3XCUqWj6
END:VEVENT
BEGIN:VTIMEZONE
TZID:America/New_York
X-LIC-LOCATION:America/New_York
BEGIN:DAYLIGHT
DTSTART:20250309T030000
TZOFFSETFROM:-0500
TZOFFSETTO:-0400
TZNAME:EDT
END:DAYLIGHT
BEGIN:STANDARD
DTSTART:20251102T010000
TZOFFSETFROM:-0400
TZOFFSETTO:-0500
TZNAME:EST
END:STANDARD
BEGIN:DAYLIGHT
DTSTART:20260308T030000
TZOFFSETFROM:-0500
TZOFFSETTO:-0400
TZNAME:EDT
END:DAYLIGHT
BEGIN:STANDARD
DTSTART:20261101T010000
TZOFFSETFROM:-0400
TZOFFSETTO:-0500
TZNAME:EST
END:STANDARD
END:VTIMEZONE
END:VCALENDAR