BEGIN:VCALENDAR
VERSION:2.0
PRODID:-//wp-events-plugin.com//7.2.3.1//EN
TZID:America/New_York
X-WR-TIMEZONE:America/New_York
BEGIN:VEVENT
UID:1011@recoverynh.org
DTSTART;TZID=America/New_York:20251022T180000
DTEND;TZID=America/New_York:20261230T190000
DTSTAMP:20251230T215134Z
URL:https://recoverynh.org/events/nar-anon-peace-and-serenity/
SUMMARY:NAR-ANON Peace & Serenity – Family Support Group
DESCRIPTION:NAR-ANON Peace & Serenity meets Wednesdays 6–7 PM in Manchest
 er\, NH. A supportive twelve-step group for those affected by someone else
 ’s addiction.
ATTACH;FMTTYPE=image/jpeg:https://recoverynh.org/wp-content/uploads/2025/1
 0/Website-Flyers-16.png
CATEGORIES:Meetings,Nar-Anon
LOCATION:https://maps.app.goo.gl/CGvXJ8uJS3XCUqWj6
END:VEVENT
BEGIN:VTIMEZONE
TZID:America/New_York
X-LIC-LOCATION:America/New_York
BEGIN:DAYLIGHT
DTSTART:20250309T030000
TZOFFSETFROM:-0500
TZOFFSETTO:-0400
TZNAME:EDT
END:DAYLIGHT
BEGIN:STANDARD
DTSTART:20251102T010000
TZOFFSETFROM:-0400
TZOFFSETTO:-0500
TZNAME:EST
END:STANDARD
BEGIN:DAYLIGHT
DTSTART:20260308T030000
TZOFFSETFROM:-0500
TZOFFSETTO:-0400
TZNAME:EDT
END:DAYLIGHT
BEGIN:STANDARD
DTSTART:20261101T010000
TZOFFSETFROM:-0400
TZOFFSETTO:-0500
TZNAME:EST
END:STANDARD
END:VTIMEZONE
END:VCALENDAR