BEGIN:VCALENDAR
VERSION:2.0
PRODID:-//wp-events-plugin.com//7.2.3.1//EN
TZID:America/New_York
X-WR-TIMEZONE:America/New_York
BEGIN:VEVENT
UID:401@recoverynh.org
DTSTART;TZID=America/New_York:20250903T190000
DTEND;TZID=America/New_York:20261230T201500
DTSTAMP:20251230T214848Z
URL:https://recoverynh.org/events/narcotics-anonymous-awakening-spirituali
 ty-women/
SUMMARY:Narcotics Anonymous Awakening Spirituality (Women)
DESCRIPTION:Join us for Narcotics Anonymous: Awakening Spirituality (Women)
 \, a weekly NA meeting designed to provide women in recovery with a safe\,
  supportive space for fellowship and growth. This group emphasizes spiritu
 al connection\, shared experience\, and encouragement through the principl
 es of Narcotics Anonymous. Open to all women seeking recovery\, Awakening 
 Spirituality offers hope\, strength\, and community on the path to healing
 .
ATTACH;FMTTYPE=image/jpeg:https://recoverynh.org/wp-content/uploads/2025/0
 8/20.png
CATEGORIES:Meetings,NA Meetings
LOCATION:https://maps.app.goo.gl/8TeTckYjGjVpyR8k6
END:VEVENT
BEGIN:VTIMEZONE
TZID:America/New_York
X-LIC-LOCATION:America/New_York
BEGIN:DAYLIGHT
DTSTART:20250309T030000
TZOFFSETFROM:-0500
TZOFFSETTO:-0400
TZNAME:EDT
END:DAYLIGHT
BEGIN:STANDARD
DTSTART:20251102T010000
TZOFFSETFROM:-0400
TZOFFSETTO:-0500
TZNAME:EST
END:STANDARD
BEGIN:DAYLIGHT
DTSTART:20260308T030000
TZOFFSETFROM:-0500
TZOFFSETTO:-0400
TZNAME:EDT
END:DAYLIGHT
BEGIN:STANDARD
DTSTART:20261101T010000
TZOFFSETFROM:-0400
TZOFFSETTO:-0500
TZNAME:EST
END:STANDARD
END:VTIMEZONE
END:VCALENDAR