BEGIN:VCALENDAR
VERSION:2.0
PRODID:-//wp-events-plugin.com//7.2.3.1//EN
TZID:America/New_York
X-WR-TIMEZONE:America/New_York
BEGIN:VEVENT
UID:528@recoverynh.org
DTSTART;TZID=America/New_York:20250829T190000
DTEND;TZID=America/New_York:20261225T201500
DTSTAMP:20251223T204731Z
URL:https://recoverynh.org/events/narcotics-anonymous-friday-freedom-group
 /
SUMMARY:Narcotics Anonymous Friday Freedom Group
DESCRIPTION:Join us for Narcotics Anonymous: Friday Freedom Group\, a weekl
 y NA meeting that provides a safe and supportive space for those seeking r
 ecovery from addiction. Rooted in fellowship and the principles of Narcoti
 cs Anonymous\, this group focuses on hope\, connection\, and freedom from 
 active addiction. Open to anyone with a desire to stop using\, the Friday 
 Freedom Group offers encouragement\, shared experience\, and strength for 
 the recovery journey.
ATTACH;FMTTYPE=image/jpeg:https://recoverynh.org/wp-content/uploads/2025/0
 8/27.png
CATEGORIES:Meetings,NA Meetings
LOCATION:https://maps.app.goo.gl/8TeTckYjGjVpyR8k6
END:VEVENT
BEGIN:VTIMEZONE
TZID:America/New_York
X-LIC-LOCATION:America/New_York
BEGIN:DAYLIGHT
DTSTART:20250309T030000
TZOFFSETFROM:-0500
TZOFFSETTO:-0400
TZNAME:EDT
END:DAYLIGHT
BEGIN:STANDARD
DTSTART:20251102T010000
TZOFFSETFROM:-0400
TZOFFSETTO:-0500
TZNAME:EST
END:STANDARD
BEGIN:DAYLIGHT
DTSTART:20260308T030000
TZOFFSETFROM:-0500
TZOFFSETTO:-0400
TZNAME:EDT
END:DAYLIGHT
BEGIN:STANDARD
DTSTART:20261101T010000
TZOFFSETFROM:-0400
TZOFFSETTO:-0500
TZNAME:EST
END:STANDARD
END:VTIMEZONE
END:VCALENDAR