BEGIN:VCALENDAR
VERSION:2.0
PRODID:-//wp-events-plugin.com//7.2.3.1//EN
TZID:America/New_York
X-WR-TIMEZONE:America/New_York
BEGIN:VEVENT
UID:634@recoverynh.org
DTSTART;TZID=America/New_York:20260104T180000
DTEND;TZID=America/New_York:20261227T191500
DTSTAMP:20260119T182727Z
URL:https://recoverynh.org/events/narcotics-anonymous-vision-of-hope-2/
SUMMARY:Narcotics Anonymous "Vision of Hope"
DESCRIPTION:Join us for Narcotics Anonymous: Vision of Hope\, a weekly NA m
 eeting that provides a safe and welcoming space for those seeking recovery
  from addiction. Rooted in the fellowship and principles of Narcotics Anon
 ymous\, this group offers encouragement\, connection\, and hope through sh
 ared experience. Open to anyone with a desire to stop using\, Vision of Ho
 pe is a place to build strength\, support\, and lasting recovery together.
ATTACH;FMTTYPE=image/jpeg:https://recoverynh.org/wp-content/uploads/2026/0
 1/Website-Flyers.png
CATEGORIES:Meetings,NA Meetings
LOCATION:https://maps.app.goo.gl/8TeTckYjGjVpyR8k6
END:VEVENT
BEGIN:VTIMEZONE
TZID:America/New_York
X-LIC-LOCATION:America/New_York
BEGIN:STANDARD
DTSTART:20251102T010000
TZOFFSETFROM:-0400
TZOFFSETTO:-0500
TZNAME:EST
END:STANDARD
BEGIN:DAYLIGHT
DTSTART:20260308T030000
TZOFFSETFROM:-0500
TZOFFSETTO:-0400
TZNAME:EDT
END:DAYLIGHT
BEGIN:STANDARD
DTSTART:20261101T010000
TZOFFSETFROM:-0400
TZOFFSETTO:-0500
TZNAME:EST
END:STANDARD
END:VTIMEZONE
END:VCALENDAR