BEGIN:VCALENDAR
VERSION:2.0
PRODID:-//wp-events-plugin.com//7.2.3.1//EN
TZID:America/New_York
X-WR-TIMEZONE:America/New_York
BEGIN:VEVENT
UID:420@recoverynh.org
DTSTART;TZID=America/New_York:20250903T190000
DTEND;TZID=America/New_York:20261230T200000
DTSTAMP:20251230T214924Z
URL:https://recoverynh.org/events/our-recovery/
SUMMARY:Our Recovery
DESCRIPTION:
ATTACH;FMTTYPE=image/jpeg:https://recoverynh.org/wp-content/uploads/2025/0
 8/21.png
CATEGORIES:Meetings
LOCATION:https://maps.app.goo.gl/8TeTckYjGjVpyR8k6
END:VEVENT
BEGIN:VTIMEZONE
TZID:America/New_York
X-LIC-LOCATION:America/New_York
BEGIN:DAYLIGHT
DTSTART:20250309T030000
TZOFFSETFROM:-0500
TZOFFSETTO:-0400
TZNAME:EDT
END:DAYLIGHT
BEGIN:STANDARD
DTSTART:20251102T010000
TZOFFSETFROM:-0400
TZOFFSETTO:-0500
TZNAME:EST
END:STANDARD
BEGIN:DAYLIGHT
DTSTART:20260308T030000
TZOFFSETFROM:-0500
TZOFFSETTO:-0400
TZNAME:EDT
END:DAYLIGHT
BEGIN:STANDARD
DTSTART:20261101T010000
TZOFFSETFROM:-0400
TZOFFSETTO:-0500
TZNAME:EST
END:STANDARD
END:VTIMEZONE
END:VCALENDAR