BEGIN:VCALENDAR
VERSION:2.0
PRODID:-//wp-events-plugin.com//7.2.3.1//EN
TZID:America/New_York
X-WR-TIMEZONE:America/New_York
BEGIN:VEVENT
UID:2769@recoverynh.org
DTSTART;TZID=America/New_York:20260418T090000
DTEND;TZID=America/New_York:20260418T130000
DTSTAMP:20260108T191304Z
URL:https://recoverynh.org/events/park-clean-up-2026-6/
SUMMARY:Park Clean-Up 2026
DESCRIPTION:Community park clean-ups at Sheehan-Basquil Park. Fresh air\, g
 ood people\, and everything you need provided.
ATTACH;FMTTYPE=image/jpeg:https://recoverynh.org/wp-content/uploads/2026/0
 1/2026-Park-Clean-up-web.png
CATEGORIES:Community Event
LOCATION:Sheehan-Basquil Park\, 297 Maple St.\, Manchester\, NH\, 03103\, U
 nited States
X-APPLE-STRUCTURED-LOCATION;VALUE=URI;X-ADDRESS=297 Maple St.\, Manchester\
 , NH\, 03103\, United States;X-APPLE-RADIUS=100;X-TITLE=Sheehan-Basquil Pa
 rk:geo:0,0
END:VEVENT
BEGIN:VTIMEZONE
TZID:America/New_York
X-LIC-LOCATION:America/New_York
BEGIN:DAYLIGHT
DTSTART:20260308T030000
TZOFFSETFROM:-0500
TZOFFSETTO:-0400
TZNAME:EDT
END:DAYLIGHT
END:VTIMEZONE
END:VCALENDAR