BEGIN:VCALENDAR
VERSION:2.0
PRODID:-//wp-events-plugin.com//7.2.3.1//EN
TZID:America/New_York
X-WR-TIMEZONE:America/New_York
BEGIN:VEVENT
UID:4121@recoverynh.org
DTSTART;TZID=America/New_York:20260604T170000
DTEND;TZID=America/New_York:20260604T200000
DTSTAMP:20260423T153734Z
URL:https://recoverynh.org/events/recovery-roller-rally-skate-night/
SUMMARY:Recovery Roller Rally: Skate Night
DESCRIPTION:A fun-filled roller skating event in Manchester\, NH. Good vibe
 s\, great people\, and limited skate rentals available!
ATTACH;FMTTYPE=image/jpeg:https://recoverynh.org/wp-content/uploads/2026/0
 4/recoveryrollerrally-1.png
CATEGORIES:Community Event
LOCATION:https://maps.app.goo.gl/CGvXJ8uJS3XCUqWj6%20%20
END:VEVENT
BEGIN:VTIMEZONE
TZID:America/New_York
X-LIC-LOCATION:America/New_York
BEGIN:DAYLIGHT
DTSTART:20260308T030000
TZOFFSETFROM:-0500
TZOFFSETTO:-0400
TZNAME:EDT
END:DAYLIGHT
END:VTIMEZONE
END:VCALENDAR