BEGIN:VCALENDAR
VERSION:2.0
PRODID:-//wp-events-plugin.com//7.2.3.1//EN
TZID:America/New_York
X-WR-TIMEZONE:America/New_York
BEGIN:VEVENT
UID:845@recoverynh.org
DTSTART;TZID=America/New_York:20260106T130000
DTEND;TZID=America/New_York:20261229T150000
DTSTAMP:20251230T223355Z
URL:https://recoverynh.org/events/sacred-space-reiki-2/
SUMMARY:Sacred Space Reiki
DESCRIPTION:Sacred Space Reiki meets Tuesdays 1–2:30 PM at Hope for NH Re
 covery. Relax\, restore\, and release stress with Reiki healing and gentle
  drumming.
ATTACH;FMTTYPE=image/jpeg:https://recoverynh.org/wp-content/uploads/2025/0
 9/Website-Flyers-8.png
CATEGORIES:Reiki,Wellness
LOCATION:https://maps.app.goo.gl/CGvXJ8uJS3XCUqWj6
END:VEVENT
BEGIN:VTIMEZONE
TZID:America/New_York
X-LIC-LOCATION:America/New_York
BEGIN:STANDARD
DTSTART:20251102T010000
TZOFFSETFROM:-0400
TZOFFSETTO:-0500
TZNAME:EST
END:STANDARD
BEGIN:DAYLIGHT
DTSTART:20260308T030000
TZOFFSETFROM:-0500
TZOFFSETTO:-0400
TZNAME:EDT
END:DAYLIGHT
BEGIN:STANDARD
DTSTART:20261101T010000
TZOFFSETFROM:-0400
TZOFFSETTO:-0500
TZNAME:EST
END:STANDARD
END:VTIMEZONE
END:VCALENDAR