BEGIN:VCALENDAR
VERSION:2.0
PRODID:-//wp-events-plugin.com//7.2.3.1//EN
TZID:America/New_York
X-WR-TIMEZONE:America/New_York
BEGIN:VEVENT
UID:3900@recoverynh.org
DTSTART;TZID=America/New_York:20260406T133000
DTEND;TZID=America/New_York:20260629T150000
DTSTAMP:20260327T144354Z
URL:https://recoverynh.org/events/seeking-safety-group-2/
SUMMARY:Seeking Safety Group
DESCRIPTION:A 12-week supportive group helping women build coping skills an
 d create safety in everyday life.
ATTACH;FMTTYPE=image/jpeg:https://recoverynh.org/wp-content/uploads/2026/0
 3/Seeking-safety-group.png
CATEGORIES:Meetings
LOCATION:https://maps.app.goo.gl/CGvXJ8uJS3XCUqWj6
END:VEVENT
BEGIN:VTIMEZONE
TZID:America/New_York
X-LIC-LOCATION:America/New_York
BEGIN:DAYLIGHT
DTSTART:20260308T030000
TZOFFSETFROM:-0500
TZOFFSETTO:-0400
TZNAME:EDT
END:DAYLIGHT
END:VTIMEZONE
END:VCALENDAR