BEGIN:VCALENDAR
VERSION:2.0
PRODID:-//wp-events-plugin.com//7.2.3.1//EN
TZID:America/New_York
X-WR-TIMEZONE:America/New_York
BEGIN:VEVENT
UID:3553@recoverynh.org
DTSTART;TZID=America/New_York:20260102T170000
DTEND;TZID=America/New_York:20270129T180000
DTSTAMP:20260406T173142Z
URL:https://recoverynh.org/events/sound-bowl-meditation-2/
SUMMARY:Sound Bowl Meditation
DESCRIPTION:A monthly sound bowl meditation offering deep relaxation and a 
 calming reset through sound.
ATTACH;FMTTYPE=image/jpeg:https://recoverynh.org/wp-content/uploads/2026/0
 1/Sound-Bowls-1.png
CATEGORIES:Sound Bowls,Wellness
LOCATION:https://maps.app.goo.gl/CGvXJ8uJS3XCUqWj6
END:VEVENT
BEGIN:VTIMEZONE
TZID:America/New_York
X-LIC-LOCATION:America/New_York
BEGIN:STANDARD
DTSTART:20251102T010000
TZOFFSETFROM:-0400
TZOFFSETTO:-0500
TZNAME:EST
END:STANDARD
BEGIN:DAYLIGHT
DTSTART:20260308T030000
TZOFFSETFROM:-0500
TZOFFSETTO:-0400
TZNAME:EDT
END:DAYLIGHT
BEGIN:STANDARD
DTSTART:20261101T010000
TZOFFSETFROM:-0400
TZOFFSETTO:-0500
TZNAME:EST
END:STANDARD
END:VTIMEZONE
END:VCALENDAR