BEGIN:VCALENDAR
VERSION:2.0
PRODID:-//wp-events-plugin.com//7.2.3.1//EN
TZID:America/New_York
X-WR-TIMEZONE:America/New_York
BEGIN:VEVENT
UID:1059@recoverynh.org
DTSTART;TZID=America/New_York:20251204T163000
DTEND;TZID=America/New_York:20261231T180000
DTSTAMP:20251230T222938Z
URL:https://recoverynh.org/events/spirit-of-the-dream-catcher-dreamcatcher
 -workshop/
SUMMARY:Spirit of the Dream Catcher – Dreamcatcher Workshop
DESCRIPTION:Spirit of the Dream Catcher meets Thursdays 4:30–6 PM in Manc
 hester\, NH. Hands-on workshop to create your own authentic dreamcatcher w
 ith step-by-step guidance.
ATTACH;FMTTYPE=image/jpeg:https://recoverynh.org/wp-content/uploads/2025/1
 1/Dreamcatcher.png
CATEGORIES:Wellness
LOCATION:https://maps.app.goo.gl/CGvXJ8uJS3XCUqWj6
END:VEVENT
BEGIN:VTIMEZONE
TZID:America/New_York
X-LIC-LOCATION:America/New_York
BEGIN:STANDARD
DTSTART:20251102T010000
TZOFFSETFROM:-0400
TZOFFSETTO:-0500
TZNAME:EST
END:STANDARD
BEGIN:DAYLIGHT
DTSTART:20260308T030000
TZOFFSETFROM:-0500
TZOFFSETTO:-0400
TZNAME:EDT
END:DAYLIGHT
BEGIN:STANDARD
DTSTART:20261101T010000
TZOFFSETFROM:-0400
TZOFFSETTO:-0500
TZNAME:EST
END:STANDARD
END:VTIMEZONE
END:VCALENDAR