BEGIN:VCALENDAR
VERSION:2.0
PRODID:-//wp-events-plugin.com//7.2.3.1//EN
TZID:America/New_York
X-WR-TIMEZONE:America/New_York
BEGIN:VEVENT
UID:4068@recoverynh.org
DTSTART;TZID=America/New_York:20260425T170000
DTEND;TZID=America/New_York:20270417T180000
DTSTAMP:20260421T165048Z
URL:https://recoverynh.org/events/the-reset-ritual-meditation-sound-healin
 g/
SUMMARY:The Reset Ritual: Grounding & Renewal (Members Only)
DESCRIPTION:A peaceful Saturday reset with meditation\, sound healing\, and
  reflection to help you recharge and recenter.
ATTACH;FMTTYPE=image/jpeg:https://recoverynh.org/wp-content/uploads/2026/0
 4/WEBSITE-FLYERS-3.png
CATEGORIES:Meditation,Wellness
LOCATION:https://maps.app.goo.gl/CGvXJ8uJS3XCUqWj6%20%20
END:VEVENT
BEGIN:VTIMEZONE
TZID:America/New_York
X-LIC-LOCATION:America/New_York
BEGIN:DAYLIGHT
DTSTART:20260308T030000
TZOFFSETFROM:-0500
TZOFFSETTO:-0400
TZNAME:EDT
END:DAYLIGHT
BEGIN:STANDARD
DTSTART:20261101T010000
TZOFFSETFROM:-0400
TZOFFSETTO:-0500
TZNAME:EST
END:STANDARD
BEGIN:DAYLIGHT
DTSTART:20270314T030000
TZOFFSETFROM:-0500
TZOFFSETTO:-0400
TZNAME:EDT
END:DAYLIGHT
END:VTIMEZONE
END:VCALENDAR