BEGIN:VCALENDAR
VERSION:2.0
PRODID:-//wp-events-plugin.com//7.2.3.1//EN
TZID:America/New_York
X-WR-TIMEZONE:America/New_York
BEGIN:VEVENT
UID:3677@recoverynh.org
DTSTART;TZID=America/New_York:20260303T133000
DTEND;TZID=America/New_York:20270302T143000
DTSTAMP:20260302T182922Z
URL:https://recoverynh.org/events/your-move-chess-club/
SUMMARY:Your Move Chess Club
DESCRIPTION:Tuesdays just got smarter! Your Move Chess Club meets at 1:30 P
 M at Hope for NH Recovery—learn\, watch\, or play chess. All levels welc
 ome.
ATTACH;FMTTYPE=image/jpeg:https://recoverynh.org/wp-content/uploads/2026/0
 3/Your-Move-Chess-Club.png
CATEGORIES:Community Event
LOCATION:https://maps.app.goo.gl/CGvXJ8uJS3XCUqWj6
END:VEVENT
BEGIN:VTIMEZONE
TZID:America/New_York
X-LIC-LOCATION:America/New_York
BEGIN:STANDARD
DTSTART:20251102T010000
TZOFFSETFROM:-0400
TZOFFSETTO:-0500
TZNAME:EST
END:STANDARD
BEGIN:DAYLIGHT
DTSTART:20260308T030000
TZOFFSETFROM:-0500
TZOFFSETTO:-0400
TZNAME:EDT
END:DAYLIGHT
BEGIN:STANDARD
DTSTART:20261101T010000
TZOFFSETFROM:-0400
TZOFFSETTO:-0500
TZNAME:EST
END:STANDARD
END:VTIMEZONE
END:VCALENDAR